BEGIN:VCALENDAR
VERSION:2.0
PRODID:-//eventon.com NONSGML v1.0//EN
CALSCALE:GREGORIAN
METHOD:PUBLISH
BEGIN:VEVENT
UID:69e73376143d6
DTSTAMP:20260421T082110Z
DTSTART:20260510
DTEND:20260511
LOCATION:
SUMMARY:10 Jahre Cafe Viereck
DESCRIPTION:Cafe Viereck feiert am 10.05.2026 sein 10 jähriges Jubiläum. 
 Herzlichen Glückwunsch.\nhttps://veteranenkalender.de/events/10-jahre-cafe
 -viereck/
URL:https://veteranenkalender.de/events/10-jahre-cafe-viereck/
END:VEVENT
END:VCALENDAR