BEGIN:VCALENDAR
VERSION:2.0
PRODID:-//eventon.com NONSGML v1.0//EN
CALSCALE:GREGORIAN
METHOD:PUBLISH
BEGIN:VEVENT
UID:69e747e5ed827
DTSTAMP:20260421T094821Z
DTSTART:20260516T080000Z
DTEND:20260516T170000Z
LOCATION:Beiersdorf Tannenhofstrasse 3
SUMMARY:Memorialrun 2026 in Berlin
DESCRIPTION:Der Combat Veteran e.V. Ost möchte mit euch zum MMR in Berli
 n allen BW-Angehörigen gedenken\,  die ihren Dienst am Volke mit ihrem Leb
 en bezahlt haben. 10:00 Uhr Abfahrt von Beiersdorf Wir werden einen Kranz o
 rganisieren und diesen vor Ort niederlegen. Seid dabei\,  es ist es wert.\n
 https://veteranenkalender.de/events/memorialrun-2026-in-berlin/
URL:https://veteranenkalender.de/events/memorialrun-2026-in-berlin/
END:VEVENT
END:VCALENDAR