BEGIN:VCALENDAR
VERSION:2.0
PRODID:-//eventon.com NONSGML v1.0//EN
CALSCALE:GREGORIAN
METHOD:PUBLISH
BEGIN:VEVENT
UID:69e73702448b1
DTSTAMP:20260421T083618Z
DTSTART:20260516T100000Z
DTEND:20260516T180000Z
LOCATION:Platz der Luftbrücke Berlin Tempelhof Platz der Luftbrücke 12101 Berlin-Tempelhof
SUMMARY:16th MEMORIAL RUN BERLIN 2026
DESCRIPTION:Motorradgedenkfahrt für Gefallene Kameraden Abfahrt: 12:00 Uhr
  Flughafen Tempelhof (Parkplatz &#8211; Eagle Square)\nhttps://veteranenkal
 ender.de/events/16th-memorial-run-berlin-2026/
URL:https://veteranenkalender.de/events/16th-memorial-run-berlin-2026/
END:VEVENT
END:VCALENDAR