BEGIN:VCALENDAR
VERSION:2.0
PRODID:-//eventon.com NONSGML v1.0//EN
CALSCALE:GREGORIAN
METHOD:PUBLISH
BEGIN:VEVENT
UID:69e746d8acdeb
DTSTAMP:20260421T094352Z
DTSTART:20260512T080000Z
DTEND:20260514T160000Z
LOCATION:Breisach am Rhein
SUMMARY:Veteranentag mit Blaulichttag
DESCRIPTION:Freitag 12.06.2026 Kameradschaftsabend für uns als Große Fami
 lie.Samstag 13.06.2026 Jedermanns Wettkampf Raum VogtsburgSonntag 14.06.202
 6 Veteranentag mit Blaulichttag. Ich würde mich sehr freuen\,  wenn wir si
 e dann als alte Wegbereiter und -begleiter wieder mit an Bord wissen könnt
 en.Vielleicht hat ja der eine oder andere schon eine Idee\,  was man dem br
 eiten[..]\nhttps://veteranenkalender.de/events/veteranentag-mit-blaulichtta
 g/
URL:https://veteranenkalender.de/events/veteranentag-mit-blaulichttag/
END:VEVENT
END:VCALENDAR