BEGIN:VCALENDAR
VERSION:2.0
PRODID:-//eventon.com NONSGML v1.0//EN
CALSCALE:GREGORIAN
METHOD:PUBLISH
BEGIN:VEVENT
UID:69e781848f456
DTSTAMP:20260421T135412Z
DTSTART:20260502T080000Z
DTEND:20260502T120000Z
LOCATION:Bürgerbegegnungsstätte Elstal Karl-Liebknecht-Platz 2e
SUMMARY:Veteranen Frühstück Elstal
DESCRIPTION:für aktive und ehemalige Soldaten\,  Familien und Freunde *** 
 all rangs &#8211; all nations *** grundsätzlich jeden ersten Samstag im Mo
 nat\nhttps://veteranenkalender.de/events/veteranen-fruehstueck-elstal-5/
URL:https://veteranenkalender.de/events/veteranen-fruehstueck-elstal-5/
END:VEVENT
END:VCALENDAR